BEGIN:VCALENDAR
VERSION:2.0
PRODID:-//Cancer Center Outreach Events - ECPv6.15.20//NONSGML v1.0//EN
CALSCALE:GREGORIAN
METHOD:PUBLISH
X-WR-CALNAME:Cancer Center Outreach Events
X-ORIGINAL-URL:https://www.unmc.edu/cancercenter/outreach/events
X-WR-CALDESC:Events for Cancer Center Outreach Events
REFRESH-INTERVAL;VALUE=DURATION:PT1H
X-Robots-Tag:noindex
X-PUBLISHED-TTL:PT1H
BEGIN:VTIMEZONE
TZID:America/Chicago
BEGIN:DAYLIGHT
TZOFFSETFROM:-0600
TZOFFSETTO:-0500
TZNAME:CDT
DTSTART:20240310T080000
END:DAYLIGHT
BEGIN:STANDARD
TZOFFSETFROM:-0500
TZOFFSETTO:-0600
TZNAME:CST
DTSTART:20241103T070000
END:STANDARD
BEGIN:DAYLIGHT
TZOFFSETFROM:-0600
TZOFFSETTO:-0500
TZNAME:CDT
DTSTART:20250309T080000
END:DAYLIGHT
BEGIN:STANDARD
TZOFFSETFROM:-0500
TZOFFSETTO:-0600
TZNAME:CST
DTSTART:20251102T070000
END:STANDARD
BEGIN:DAYLIGHT
TZOFFSETFROM:-0600
TZOFFSETTO:-0500
TZNAME:CDT
DTSTART:20260308T080000
END:DAYLIGHT
BEGIN:STANDARD
TZOFFSETFROM:-0500
TZOFFSETTO:-0600
TZNAME:CST
DTSTART:20261101T070000
END:STANDARD
END:VTIMEZONE
BEGIN:VEVENT
DTSTART;TZID=America/Chicago:20250808T150000
DTEND;TZID=America/Chicago:20250808T180000
DTSTAMP:20260425T130804
CREATED:20250731T212322Z
LAST-MODIFIED:20250805T161649Z
UID:350-1754665200-1754676000@www.unmc.edu
SUMMARY:Back to School Rally
DESCRIPTION:
URL:https://www.unmc.edu/cancercenter/outreach/events/event/back-to-school-rally/
LOCATION:2120 N 29th St. Ste 200\, Omaha\, NE 68111\, 2120 N 29th St. 200\, Omaha\, NE\, 68111
ATTACH;FMTTYPE=image/jpeg:https://www.unmc.edu/cancercenter/outreach/events/wp-content/uploads/2025/07/2nd-Back-to-School-Rally_Flyer_8.5x11-1.jpg
ORGANIZER;CN="Community Wellness Collaborative":MAILTO:https://www.nebraskamed.com/dignity-respect/community-wellness-collaborative
END:VEVENT
BEGIN:VEVENT
DTSTART;TZID=America/Chicago:20250816T090000
DTEND;TZID=America/Chicago:20250816T120000
DTSTAMP:20260425T130804
CREATED:20250715T152652Z
LAST-MODIFIED:20250716T150816Z
UID:353-1755334800-1755345600@www.unmc.edu
SUMMARY:Webster County Cancer Bash & Health Fair
DESCRIPTION:Link to PDF Flyer: Webster Co cancer bash 2025
URL:https://www.unmc.edu/cancercenter/outreach/events/event/webster-county-cancer-bash-health-fair/
LOCATION:Red Cloud Community Center\, 142 W 3rd Ave\, Red Cloud\, NE\, 68970
ATTACH;FMTTYPE=image/png:https://www.unmc.edu/cancercenter/outreach/events/wp-content/uploads/2025/07/WebsterCounty-1.png
END:VEVENT
BEGIN:VEVENT
DTSTART;TZID=America/Chicago:20250831T170000
DTEND;TZID=America/Chicago:20250831T213000
DTSTAMP:20260425T130804
CREATED:20250715T154844Z
LAST-MODIFIED:20250715T155051Z
UID:363-1756659600-1756675800@www.unmc.edu
SUMMARY:Storm Chaser's Sunday Funday Education Event
DESCRIPTION:Nebraska Medicine will be present and looking forward to enjoying the Omaha Storm Chasers take on the Toledo Mud Hens with you! Stop by our booth to learn more about the Fred and Pamela Buffet Cancer Center\, get your face painted\, and win some giveaway merch! Kids 12 and under are invited to run the bases after the game. To purchase tickets\, click here.
URL:https://www.unmc.edu/cancercenter/outreach/events/event/storm-chasers-sunday-funday-education-event-2/
LOCATION:Werner Park\, 12356 Ballpark Way\, Papillion\, NE\, 68046
ATTACH;FMTTYPE=image/jpeg:https://www.unmc.edu/cancercenter/outreach/events/wp-content/uploads/2025/05/stormchasers2025.jpg
END:VEVENT
END:VCALENDAR